BEGIN:VCALENDAR
VERSION:2.0
PRODID:-//San Bernardino County Museum - ECPv6.15.14//NONSGML v1.0//EN
CALSCALE:GREGORIAN
METHOD:PUBLISH
X-ORIGINAL-URL:https://museum.sbcounty.gov
X-WR-CALDESC:Events for San Bernardino County Museum
REFRESH-INTERVAL;VALUE=DURATION:PT1H
X-Robots-Tag:noindex
X-PUBLISHED-TTL:PT1H
BEGIN:VTIMEZONE
TZID:America/Los_Angeles
BEGIN:DAYLIGHT
TZOFFSETFROM:-0800
TZOFFSETTO:-0700
TZNAME:PDT
DTSTART:20250309T100000
END:DAYLIGHT
BEGIN:STANDARD
TZOFFSETFROM:-0700
TZOFFSETTO:-0800
TZNAME:PST
DTSTART:20251102T090000
END:STANDARD
BEGIN:DAYLIGHT
TZOFFSETFROM:-0800
TZOFFSETTO:-0700
TZNAME:PDT
DTSTART:20260308T100000
END:DAYLIGHT
BEGIN:STANDARD
TZOFFSETFROM:-0700
TZOFFSETTO:-0800
TZNAME:PST
DTSTART:20261101T090000
END:STANDARD
BEGIN:DAYLIGHT
TZOFFSETFROM:-0800
TZOFFSETTO:-0700
TZNAME:PDT
DTSTART:20270314T100000
END:DAYLIGHT
BEGIN:STANDARD
TZOFFSETFROM:-0700
TZOFFSETTO:-0800
TZNAME:PST
DTSTART:20271107T090000
END:STANDARD
END:VTIMEZONE
BEGIN:VEVENT
DTSTART;TZID=America/Los_Angeles:20260502T110000
DTEND;TZID=America/Los_Angeles:20260502T160000
DTSTAMP:20260423T113409
CREATED:20260421T155536Z
LAST-MODIFIED:20260421T155815Z
UID:10002794-1777719600-1777737600@museum.sbcounty.gov
SUMMARY:Old West Days
DESCRIPTION:​Old West Days invites the community to spend a fun\, family-friendly day at the museum celebrating the rich and diverse history of the American West in San Bernardino County. Guests can explore educational booths\, experience home food canning demonstrations\, and meet local historians and historical societies sharing stories and knowledge about life in the region during the Old West. It’s a welcoming opportunity to learn something new\, ask questions\, and enjoy a relaxed day of discovery with family and friends. \nAdmission:• $10 adults• $8 military or seniors• $7 students• $5 children ages 6–12• Free for children five and under• Museum Foundation members are free. \nParking is free\, and the museum is accessible to persons with disabilities. \nBlack and White Photograph: A64-4798.17 A Navaho Family\, Photograph by Laura Gilpin
URL:https://museum.sbcounty.gov/event/old-west-days-2026/
LOCATION:San Bernardino County Museum\, 2024 Orange Tree Lane\, Redlands\, CA\, 92374\, United States
CATEGORIES:Event
ATTACH;FMTTYPE=image/jpeg:https://museum.sbcounty.gov/wp-content/uploads/sites/45/Old-West-Days_collateral_banner_1920x1080.jpg
ORGANIZER;CN="Eliana Zacarias":MAILTO:Eliana.Zacarias@sbcm.sbcounty.gov
END:VEVENT
BEGIN:VEVENT
DTSTART;TZID=America/Los_Angeles:20260506T180000
DTEND;TZID=America/Los_Angeles:20260506T193000
DTSTAMP:20260423T113409
CREATED:20260423T175450Z
LAST-MODIFIED:20260423T175915Z
UID:10002797-1778090400-1778095800@museum.sbcounty.gov
SUMMARY:The Archaeology of the San Bernardino Chinatown with Dr. Laura Ng
DESCRIPTION:May 6\, 2026 | 6–7:30 PMFisk Gallery \nJoin us for an evening lecture with Dr. Laura W. Ng\, a historical archaeologist whose research explores the lived experiences of Asian American communities through material culture and place. \nThis presentation examines the history of the San Bernardino Chinatown\, which existed from 1878 to 1944\, and offers insight into the daily lives of Chinese immigrants who helped shape the greater San Bernardino County region. Drawing from archaeological evidence\, architecture\, oral histories\, and archival records from both the United States and China\, Dr. Ng explores how residents built community\, navigated exclusion\, and maintained cultural connections across borders. \nPresented in conjunction with the Chinese Pioneers exhibition. \nAdmission \n\nGeneral admission applies\nStudents receive 50% off admission\n\nAbout the Presenter\nDr. Laura W. Ng is a historical archaeologist specializing in the archaeology of Asian American communities. She earned her PhD in Anthropology from Stanford University and is currently an Assistant Professor of Anthropology at Grinnell College in Iowa. \nHer research focuses on transpacific connections\, and she is currently leading archaeological work on the Rock Springs and Evanston Chinatowns in Wyoming. This research is supported by Grinnell College\, the Frison Institute\, and the Far Western Foundation. \nAdmission:• $10 adults• $8 military or seniors• $7 students• $5 children ages 6–12• Free for children five and under• Museum members are free. \nParking is free\, and the museum is accessible to persons with disabilities.
URL:https://museum.sbcounty.gov/event/chinese-pioneers-programming-talk-laura-ng/
LOCATION:San Bernardino County Museum\, 2024 Orange Tree Lane\, Redlands\, CA\, 92374\, United States
CATEGORIES:Event
ATTACH;FMTTYPE=image/png:https://museum.sbcounty.gov/wp-content/uploads/sites/45/sbcm_chinese-pioneers_programming_reasearch-talk_2026_banner.png
ORGANIZER;CN="Casey Lee":MAILTO:casey.lee@sbcm.sbcounty.gov
END:VEVENT
END:VCALENDAR