BEGIN:VCALENDAR
VERSION:2.0
PRODID:-//San Bernardino County Museum - ECPv6.15.14//NONSGML v1.0//EN
CALSCALE:GREGORIAN
METHOD:PUBLISH
X-ORIGINAL-URL:https://museum.sbcounty.gov
X-WR-CALDESC:Events for San Bernardino County Museum
REFRESH-INTERVAL;VALUE=DURATION:PT1H
X-Robots-Tag:noindex
X-PUBLISHED-TTL:PT1H
BEGIN:VTIMEZONE
TZID:America/Los_Angeles
BEGIN:DAYLIGHT
TZOFFSETFROM:-0800
TZOFFSETTO:-0700
TZNAME:PDT
DTSTART:20250309T100000
END:DAYLIGHT
BEGIN:STANDARD
TZOFFSETFROM:-0700
TZOFFSETTO:-0800
TZNAME:PST
DTSTART:20251102T090000
END:STANDARD
BEGIN:DAYLIGHT
TZOFFSETFROM:-0800
TZOFFSETTO:-0700
TZNAME:PDT
DTSTART:20260308T100000
END:DAYLIGHT
BEGIN:STANDARD
TZOFFSETFROM:-0700
TZOFFSETTO:-0800
TZNAME:PST
DTSTART:20261101T090000
END:STANDARD
BEGIN:DAYLIGHT
TZOFFSETFROM:-0800
TZOFFSETTO:-0700
TZNAME:PDT
DTSTART:20270314T100000
END:DAYLIGHT
BEGIN:STANDARD
TZOFFSETFROM:-0700
TZOFFSETTO:-0800
TZNAME:PST
DTSTART:20271107T090000
END:STANDARD
END:VTIMEZONE
BEGIN:VEVENT
DTSTART;TZID=America/Los_Angeles:20260314T100000
DTEND;TZID=America/Los_Angeles:20260314T160000
DTSTAMP:20260423T111013
CREATED:20260122T010525Z
LAST-MODIFIED:20260313T172641Z
UID:10002677-1773482400-1773504000@museum.sbcounty.gov
SUMMARY:Second Saturday: Bug Crafts
DESCRIPTION:Insects are some of the smallest inhabitants of our world\, yet they play some of the biggest roles in our shared ecosystem. This March\, Victor Valley Museum invites families to take a closer look at the fascinating world of bugs—just in time for Bug Fest. \nFor this month’s Second Saturday\, children will create bug-themed crafts\, inspired by the incredible diversity\, forms\, and behaviors of insects. From pollinators to decomposers\, insects help shape our environment and our history. This activity gently introduces the idea that even the smallest creatures are part of a much larger story—one we all share. \nSecond Saturdays are designed to be relaxed\, welcoming experiences where families can create together\, explore curiosity\, and connect with science and culture in meaningful ways—reminding visitors that their stories live here.
URL:https://museum.sbcounty.gov/event/second-saturday-march-2026/
LOCATION:Victor Valley Museum\, 11873 Apple Valley Road\, Apple Valley\, CA\, 92308\, United States
CATEGORIES:Program
ATTACH;FMTTYPE=image/jpeg:https://museum.sbcounty.gov/wp-content/uploads/sites/45/VVM-Second-Saturdays-Mar-2026-banner-1.jpg
ORGANIZER;CN="Maria Gutierrez":MAILTO:maria.gutierrez@sbcm.sbcounty.gov
END:VEVENT
BEGIN:VEVENT
DTSTART;TZID=America/Los_Angeles:20260214T100000
DTEND;TZID=America/Los_Angeles:20260214T160000
DTSTAMP:20260423T111013
CREATED:20260122T005548Z
LAST-MODIFIED:20260127T011245Z
UID:10002674-1771063200-1771084800@museum.sbcounty.gov
SUMMARY:Second Saturday: Birds
DESCRIPTION:February invites us to slow down\, reflect\, and consider how small gestures can carry deep meaning. \nJoin us for a Second Saturday inspired by National Bird Feeding Month. Kids will create an owl flying craft and a simple bird feeder. Feeding birds is a simple act that can teach children to be more conscientious about birds\, their habitats\, and how people and wildlife share the same spaces. \nSecond Saturdays are designed to be relaxed\, welcoming\, and accessible\, offering families an opportunity to create together while engaging with the museum in a meaningful way.
URL:https://museum.sbcounty.gov/event/second-saturday-birds/
LOCATION:Victor Valley Museum\, 11873 Apple Valley Road\, Apple Valley\, CA\, 92308\, United States
CATEGORIES:Program
ATTACH;FMTTYPE=image/jpeg:https://museum.sbcounty.gov/wp-content/uploads/sites/45/VVM-Second-Saturdays-Feb-2026-banner-1.jpg
ORGANIZER;CN="Maria Gutierrez":MAILTO:maria.gutierrez@sbcm.sbcounty.gov
END:VEVENT
BEGIN:VEVENT
DTSTART;TZID=America/Los_Angeles:20260110T100000
DTEND;TZID=America/Los_Angeles:20260110T160000
DTSTAMP:20260423T111013
CREATED:20260102T212216Z
LAST-MODIFIED:20260102T212216Z
UID:10002671-1768039200-1768060800@museum.sbcounty.gov
SUMMARY:Second Saturdays: Rock Painting
DESCRIPTION:Every story has a beginning—and sometimes it starts with a stone. \nAs part of our seasonal campaign\, The Story of Us\, Victor Valley Museum invites families to explore how even the smallest objects can hold meaning\, memory\, and imagination. Rocks connect us to the land beneath our feet\, to time\, and to one another—and through creativity\, they become storytellers. \nDuring this hands-on Second Saturday program\, children are invited to paint and decorate their own rocks\, transforming natural materials into personal works of art. This relaxed\, drop-in activity encourages creativity\, self-expression\, and a sense of belonging—reminding young artists that their stories live here\, too.
URL:https://museum.sbcounty.gov/event/second-saturdays-rock-painting/
LOCATION:Victor Valley Museum\, 11873 Apple Valley Road\, Apple Valley\, CA\, 92308\, United States
CATEGORIES:Program
ATTACH;FMTTYPE=image/jpeg:https://museum.sbcounty.gov/wp-content/uploads/sites/45/VVM-Second-Saturdays-2026-Jan-banner.jpg
ORGANIZER;CN="Maria Gutierrez":MAILTO:maria.gutierrez@sbcm.sbcounty.gov
END:VEVENT
END:VCALENDAR