BEGIN:VCALENDAR
VERSION:2.0
PRODID:-//San Bernardino County Museum - ECPv6.15.14//NONSGML v1.0//EN
CALSCALE:GREGORIAN
METHOD:PUBLISH
X-ORIGINAL-URL:https://museum.sbcounty.gov
X-WR-CALDESC:Events for San Bernardino County Museum
REFRESH-INTERVAL;VALUE=DURATION:PT1H
X-Robots-Tag:noindex
X-PUBLISHED-TTL:PT1H
BEGIN:VTIMEZONE
TZID:America/Los_Angeles
BEGIN:DAYLIGHT
TZOFFSETFROM:-0800
TZOFFSETTO:-0700
TZNAME:PDT
DTSTART:20250309T100000
END:DAYLIGHT
BEGIN:STANDARD
TZOFFSETFROM:-0700
TZOFFSETTO:-0800
TZNAME:PST
DTSTART:20251102T090000
END:STANDARD
BEGIN:DAYLIGHT
TZOFFSETFROM:-0800
TZOFFSETTO:-0700
TZNAME:PDT
DTSTART:20260308T100000
END:DAYLIGHT
BEGIN:STANDARD
TZOFFSETFROM:-0700
TZOFFSETTO:-0800
TZNAME:PST
DTSTART:20261101T090000
END:STANDARD
BEGIN:DAYLIGHT
TZOFFSETFROM:-0800
TZOFFSETTO:-0700
TZNAME:PDT
DTSTART:20270314T100000
END:DAYLIGHT
BEGIN:STANDARD
TZOFFSETFROM:-0700
TZOFFSETTO:-0800
TZNAME:PST
DTSTART:20271107T090000
END:STANDARD
END:VTIMEZONE
BEGIN:VEVENT
DTSTART;TZID=America/Los_Angeles:20260103T100000
DTEND;TZID=America/Los_Angeles:20260103T150000
DTSTAMP:20260424T200255
CREATED:20251218T003542Z
LAST-MODIFIED:20260120T192656Z
UID:10002621-1767434400-1767452400@museum.sbcounty.gov
SUMMARY:STEAM Saturdays: Activation Activities for Children
DESCRIPTION:STEAM Saturdays: Activation Activities for Young Children\nSTEAM Saturdays invite families to join the Museum Education team in our STEAM Lab for simple\, hands-on activation activities designed especially for younger children. Each Saturday offers an engaging opportunity for children to explore science\, technology\, engineering\, art\, and math through play\, creativity\, and guided discovery. \nThese activities are intentionally designed to support early learning\, spark curiosity about the scientific world\, and encourage an appreciation for STEM-centered learning in an age-appropriate and welcoming environment. STEAM Saturdays also create meaningful moments for parents and caregivers to learn alongside their children—strengthening bonds while nurturing confidence\, curiosity\, and a love of discovery. \nBy introducing STEAM concepts early\, we help children begin to see themselves as future scientists\, engineers\, artists\, mathematicians\, and problem-solvers—an important part of the story of us. \nJanuary Activity InvitationThis January\, join us in the STEAM Lab to create a fun and thoughtful mushroom-themed calendar—an easy\, hands-on activity that blends creativity with simple ideas about nature and time.
URL:https://museum.sbcounty.gov/event/steam-saturdays-mushrooms-calendars/2026-01-03/
LOCATION:San Bernardino County Museum\, 2024 Orange Tree Lane\, Redlands\, CA\, 92374\, United States
CATEGORIES:Program
ORGANIZER;CN="Heather Hill":MAILTO:Heather.Hill@sbcm.sbcounty.gov
END:VEVENT
BEGIN:VEVENT
DTSTART;TZID=America/Los_Angeles:20260110T100000
DTEND;TZID=America/Los_Angeles:20260110T150000
DTSTAMP:20260424T200255
CREATED:20251218T003542Z
LAST-MODIFIED:20260120T192656Z
UID:10002624-1768039200-1768057200@museum.sbcounty.gov
SUMMARY:STEAM Saturdays: Activation Activities for Children
DESCRIPTION:STEAM Saturdays: Activation Activities for Young Children\nSTEAM Saturdays invite families to join the Museum Education team in our STEAM Lab for simple\, hands-on activation activities designed especially for younger children. Each Saturday offers an engaging opportunity for children to explore science\, technology\, engineering\, art\, and math through play\, creativity\, and guided discovery. \nThese activities are intentionally designed to support early learning\, spark curiosity about the scientific world\, and encourage an appreciation for STEM-centered learning in an age-appropriate and welcoming environment. STEAM Saturdays also create meaningful moments for parents and caregivers to learn alongside their children—strengthening bonds while nurturing confidence\, curiosity\, and a love of discovery. \nBy introducing STEAM concepts early\, we help children begin to see themselves as future scientists\, engineers\, artists\, mathematicians\, and problem-solvers—an important part of the story of us. \nJanuary Activity InvitationThis January\, join us in the STEAM Lab to create a fun and thoughtful mushroom-themed calendar—an easy\, hands-on activity that blends creativity with simple ideas about nature and time.
URL:https://museum.sbcounty.gov/event/steam-saturdays-mushrooms-calendars/2026-01-10/
LOCATION:San Bernardino County Museum\, 2024 Orange Tree Lane\, Redlands\, CA\, 92374\, United States
CATEGORIES:Program
ORGANIZER;CN="Heather Hill":MAILTO:Heather.Hill@sbcm.sbcounty.gov
END:VEVENT
BEGIN:VEVENT
DTSTART;TZID=America/Los_Angeles:20260110T100000
DTEND;TZID=America/Los_Angeles:20260110T160000
DTSTAMP:20260424T200255
CREATED:20260102T212216Z
LAST-MODIFIED:20260102T212216Z
UID:10002671-1768039200-1768060800@museum.sbcounty.gov
SUMMARY:Second Saturdays: Rock Painting
DESCRIPTION:Every story has a beginning—and sometimes it starts with a stone. \nAs part of our seasonal campaign\, The Story of Us\, Victor Valley Museum invites families to explore how even the smallest objects can hold meaning\, memory\, and imagination. Rocks connect us to the land beneath our feet\, to time\, and to one another—and through creativity\, they become storytellers. \nDuring this hands-on Second Saturday program\, children are invited to paint and decorate their own rocks\, transforming natural materials into personal works of art. This relaxed\, drop-in activity encourages creativity\, self-expression\, and a sense of belonging—reminding young artists that their stories live here\, too.
URL:https://museum.sbcounty.gov/event/second-saturdays-rock-painting/
LOCATION:Victor Valley Museum\, 11873 Apple Valley Road\, Apple Valley\, CA\, 92308\, United States
CATEGORIES:Program
ATTACH;FMTTYPE=image/jpeg:https://museum.sbcounty.gov/wp-content/uploads/sites/45/VVM-Second-Saturdays-2026-Jan-banner.jpg
ORGANIZER;CN="Maria Gutierrez":MAILTO:maria.gutierrez@sbcm.sbcounty.gov
END:VEVENT
BEGIN:VEVENT
DTSTART;TZID=America/Los_Angeles:20260110T103000
DTEND;TZID=America/Los_Angeles:20260110T121500
DTSTAMP:20260424T200255
CREATED:20251218T193219Z
LAST-MODIFIED:20251218T224741Z
UID:10002663-1768041000-1768047300@museum.sbcounty.gov
SUMMARY:STEAM Outdoors with Sprout and Blossom: Microgreens
DESCRIPTION:January STEAM Outdoors: Microgreens\nDiscover how small beginnings lead to big impact in January’s STEAM Outdoors session. Children will explore microgreens—tiny plants packed with life and nutrients—while learning how food grows and how people cultivate plants to nourish themselves and their communities. Through hands-on activities\, young learners will see how care\, patience\, and growth shape the story of us\, from seed to table. \nA Hands-On Nature Program for Curious Young Learners \nSTEAM Outdoors invites children and families to step outside and explore the living world through hands-on learning and creative discovery. SBCM is excited to partner with Sprout and Blossom for this monthly program that connects science\, nature\, and art through lessons on gardening\, food systems\, insects\, and the beauty of the natural world. Each session encourages curiosity\, care for the Earth\, and an understanding of how people and nature are deeply connected—an essential chapter in the story of us. \nSTEAM Outdoors takes place once each month and is offered in two sessions: \n\n10:30–11:15 a.m.\n11:30 a.m.–12:15 p.m.\n\nParticipation is free with general museum admission. Space is limited to 20 children per session and is available on a first-come\, first-served basis.
URL:https://museum.sbcounty.gov/event/steam-outdoors-with-sprout-and-blossom-microgreens/
LOCATION:San Bernardino County Museum\, 2024 Orange Tree Lane\, Redlands\, CA\, 92374\, United States
CATEGORIES:Program
ATTACH;FMTTYPE=image/jpeg:https://museum.sbcounty.gov/wp-content/uploads/sites/45/STEAM-Outdoors-2026-Jan.-Banner.jpg
ORGANIZER;CN="Eliana Zacarias":MAILTO:Eliana.Zacarias@sbcm.sbcounty.gov
END:VEVENT
BEGIN:VEVENT
DTSTART;TZID=America/Los_Angeles:20260117T100000
DTEND;TZID=America/Los_Angeles:20260117T150000
DTSTAMP:20260424T200255
CREATED:20251218T003542Z
LAST-MODIFIED:20260120T192656Z
UID:10002627-1768644000-1768662000@museum.sbcounty.gov
SUMMARY:STEAM Saturdays: Activation Activities for Children
DESCRIPTION:STEAM Saturdays: Activation Activities for Young Children\nSTEAM Saturdays invite families to join the Museum Education team in our STEAM Lab for simple\, hands-on activation activities designed especially for younger children. Each Saturday offers an engaging opportunity for children to explore science\, technology\, engineering\, art\, and math through play\, creativity\, and guided discovery. \nThese activities are intentionally designed to support early learning\, spark curiosity about the scientific world\, and encourage an appreciation for STEM-centered learning in an age-appropriate and welcoming environment. STEAM Saturdays also create meaningful moments for parents and caregivers to learn alongside their children—strengthening bonds while nurturing confidence\, curiosity\, and a love of discovery. \nBy introducing STEAM concepts early\, we help children begin to see themselves as future scientists\, engineers\, artists\, mathematicians\, and problem-solvers—an important part of the story of us. \nJanuary Activity InvitationThis January\, join us in the STEAM Lab to create a fun and thoughtful mushroom-themed calendar—an easy\, hands-on activity that blends creativity with simple ideas about nature and time.
URL:https://museum.sbcounty.gov/event/steam-saturdays-mushrooms-calendars/2026-01-17/
LOCATION:San Bernardino County Museum\, 2024 Orange Tree Lane\, Redlands\, CA\, 92374\, United States
CATEGORIES:Program
ORGANIZER;CN="Heather Hill":MAILTO:Heather.Hill@sbcm.sbcounty.gov
END:VEVENT
BEGIN:VEVENT
DTSTART;TZID=America/Los_Angeles:20260124T100000
DTEND;TZID=America/Los_Angeles:20260124T150000
DTSTAMP:20260424T200255
CREATED:20260120T192757Z
LAST-MODIFIED:20260120T192757Z
UID:10002630-1769248800-1769266800@museum.sbcounty.gov
SUMMARY:STEAM Saturdays: Activation Activities for Children
DESCRIPTION:STEAM Saturdays: Activation Activities for Young Children\nSTEAM Saturdays invite families to join the Museum Education team in our STEAM Lab for simple\, hands-on activation activities designed especially for younger children. Each Saturday offers an engaging opportunity for children to explore science\, technology\, engineering\, art\, and math through play\, creativity\, and guided discovery. \nThese activities are intentionally designed to support early learning\, spark curiosity about the scientific world\, and encourage an appreciation for STEM-centered learning in an age-appropriate and welcoming environment. STEAM Saturdays also create meaningful moments for parents and caregivers to learn alongside their children—strengthening bonds while nurturing confidence\, curiosity\, and a love of discovery. \nBy introducing STEAM concepts early\, we help children begin to see themselves as future scientists\, engineers\, artists\, mathematicians\, and problem-solvers—an important part of the story of us. \nJanuary Activity InvitationThis January\, join us in the STEAM Lab to create a fun and thoughtful mushroom-themed calendar—an easy\, hands-on activity that blends creativity with simple ideas about nature and time.
URL:https://museum.sbcounty.gov/event/steam-saturdays-mushrooms-calendars-2/2026-01-24/
LOCATION:San Bernardino County Museum\, 2024 Orange Tree Lane\, Redlands\, CA\, 92374\, United States
CATEGORIES:Program
ATTACH;FMTTYPE=image/jpeg:https://museum.sbcounty.gov/wp-content/uploads/sites/45/STEAM-Saturdays-Jan-2026-website-banner.jpg
ORGANIZER;CN="Heather Hill":MAILTO:Heather.Hill@sbcm.sbcounty.gov
END:VEVENT
BEGIN:VEVENT
DTSTART;TZID=America/Los_Angeles:20260124T190000
DTEND;TZID=America/Los_Angeles:20260124T220000
DTSTAMP:20260424T200255
CREATED:20251217T172956Z
LAST-MODIFIED:20260121T175917Z
UID:10002600-1769281200-1769292000@museum.sbcounty.gov
SUMMARY:Cosmic Nights
DESCRIPTION:Our story is written in the stars. \nJoin us for Cosmic Nights\, an evening of quiet discovery where the night sky becomes a gateway to wonder. As the stars brighten our view\, we are gently reminded that we are part of a much larger story—one shaped by deep time\, curiosity\, and our enduring relationship with the universe. \nThis special evening program is presented in partnership with the San Bernardino Valley Amateur Astronomers (SBVAA)\, whose members will guide guests in observing celestial objects and sharing their knowledge of the night sky. Founded in 1958\, SBVAA is dedicated to introducing the community to astronomy\, supporting amateur astronomers in the San Bernardino Valley area\, and fostering excitement and lifelong learning about the cosmos. \nCosmic Nights takes place outdoors\, weather permitting. Guests are encouraged to wear comfortable clothing and shoes. Museum galleries will remain open throughout the evening\, offering opportunities for both stargazing and indoor exploration. \nAdmission:• $10 adults• $8 military or seniors• $7 students• $5 children ages 6–12• Free for children five and under• Museum Foundation members receive 50% off admission \nParking is free\, and the museum is accessible to persons with disabilities. \nStep outside\, look up\, and reconnect with the vast story written above us—one star at a time.
URL:https://museum.sbcounty.gov/event/cosmic-nights-25/
LOCATION:San Bernardino County Museum\, 2024 Orange Tree Lane\, Redlands\, CA\, 92374\, United States
CATEGORIES:Cosmic Nights
ATTACH;FMTTYPE=image/jpeg:https://museum.sbcounty.gov/wp-content/uploads/sites/45/Cosmic-Nights-Jan-2026-banner-event.jpg
ORGANIZER;CN="Eliana Zacarias":MAILTO:Eliana.Zacarias@sbcm.sbcounty.gov
END:VEVENT
BEGIN:VEVENT
DTSTART;TZID=America/Los_Angeles:20260131T100000
DTEND;TZID=America/Los_Angeles:20260131T150000
DTSTAMP:20260424T200255
CREATED:20260120T192757Z
LAST-MODIFIED:20260120T192757Z
UID:10002633-1769853600-1769871600@museum.sbcounty.gov
SUMMARY:STEAM Saturdays: Activation Activities for Children
DESCRIPTION:STEAM Saturdays: Activation Activities for Young Children\nSTEAM Saturdays invite families to join the Museum Education team in our STEAM Lab for simple\, hands-on activation activities designed especially for younger children. Each Saturday offers an engaging opportunity for children to explore science\, technology\, engineering\, art\, and math through play\, creativity\, and guided discovery. \nThese activities are intentionally designed to support early learning\, spark curiosity about the scientific world\, and encourage an appreciation for STEM-centered learning in an age-appropriate and welcoming environment. STEAM Saturdays also create meaningful moments for parents and caregivers to learn alongside their children—strengthening bonds while nurturing confidence\, curiosity\, and a love of discovery. \nBy introducing STEAM concepts early\, we help children begin to see themselves as future scientists\, engineers\, artists\, mathematicians\, and problem-solvers—an important part of the story of us. \nJanuary Activity InvitationThis January\, join us in the STEAM Lab to create a fun and thoughtful mushroom-themed calendar—an easy\, hands-on activity that blends creativity with simple ideas about nature and time.
URL:https://museum.sbcounty.gov/event/steam-saturdays-mushrooms-calendars-2/2026-01-31/
LOCATION:San Bernardino County Museum\, 2024 Orange Tree Lane\, Redlands\, CA\, 92374\, United States
CATEGORIES:Program
ATTACH;FMTTYPE=image/jpeg:https://museum.sbcounty.gov/wp-content/uploads/sites/45/STEAM-Saturdays-Jan-2026-website-banner.jpg
ORGANIZER;CN="Heather Hill":MAILTO:Heather.Hill@sbcm.sbcounty.gov
END:VEVENT
END:VCALENDAR