BEGIN:VCALENDAR
VERSION:2.0
PRODID:-//San Bernardino County Museum - ECPv6.15.14//NONSGML v1.0//EN
CALSCALE:GREGORIAN
METHOD:PUBLISH
X-ORIGINAL-URL:https://museum.sbcounty.gov
X-WR-CALDESC:Events for San Bernardino County Museum
REFRESH-INTERVAL;VALUE=DURATION:PT1H
X-Robots-Tag:noindex
X-PUBLISHED-TTL:PT1H
BEGIN:VTIMEZONE
TZID:America/Los_Angeles
BEGIN:DAYLIGHT
TZOFFSETFROM:-0800
TZOFFSETTO:-0700
TZNAME:PDT
DTSTART:20240310T100000
END:DAYLIGHT
BEGIN:STANDARD
TZOFFSETFROM:-0700
TZOFFSETTO:-0800
TZNAME:PST
DTSTART:20241103T090000
END:STANDARD
BEGIN:DAYLIGHT
TZOFFSETFROM:-0800
TZOFFSETTO:-0700
TZNAME:PDT
DTSTART:20250309T100000
END:DAYLIGHT
BEGIN:STANDARD
TZOFFSETFROM:-0700
TZOFFSETTO:-0800
TZNAME:PST
DTSTART:20251102T090000
END:STANDARD
BEGIN:DAYLIGHT
TZOFFSETFROM:-0800
TZOFFSETTO:-0700
TZNAME:PDT
DTSTART:20260308T100000
END:DAYLIGHT
BEGIN:STANDARD
TZOFFSETFROM:-0700
TZOFFSETTO:-0800
TZNAME:PST
DTSTART:20261101T090000
END:STANDARD
END:VTIMEZONE
BEGIN:VEVENT
DTSTART;TZID=America/Los_Angeles:20251004T100000
DTEND;TZID=America/Los_Angeles:20251004T150000
DTSTAMP:20260425T155406
CREATED:20250808T160838Z
LAST-MODIFIED:20250808T160838Z
UID:10002462-1759572000-1759590000@museum.sbcounty.gov
SUMMARY:STEAM Saturdays: Q-Tip Skeletons
DESCRIPTION:Are you looking for an easy Halloween craft for kids? This Q-tip skeleton craft is so simple to put together\, and one that kids of all ages love! Join us every Saturday in October from 10 a.m. to 3 p.m. This craft will have you humming “The head bones connected to the neck bone\, the neckbone’s connected to the backbone” famous Dem Bones children’s song! Regular museum admission applies.
URL:https://museum.sbcounty.gov/event/steam-saturdays-q-tip-skeletons/2025-10-04/
LOCATION:San Bernardino County Museum\, 2024 Orange Tree Lane\, Redlands\, CA\, 92374\, United States
CATEGORIES:Program
ATTACH;FMTTYPE=image/jpeg:https://museum.sbcounty.gov/wp-content/uploads/sites/45/Qtip-Skeleton.jpg
ORGANIZER;CN="Heather Hill":MAILTO:Heather.Hill@sbcm.sbcounty.gov
END:VEVENT
BEGIN:VEVENT
DTSTART;TZID=America/Los_Angeles:20251004T110000
DTEND;TZID=America/Los_Angeles:20251004T140000
DTSTAMP:20260425T155406
CREATED:20250724T235509Z
LAST-MODIFIED:20250929T190047Z
UID:10002435-1759575600-1759586400@museum.sbcounty.gov
SUMMARY:Old Spanish Trail Day
DESCRIPTION:Step into living history at Old Spanish Trail Day—imagine the journey\, explore the historic grounds and reflect on the stories they hold\, then join the community in celebration with live music\, traditional crafts\, historical demonstrations\, speaker Nancy Melendez\, food\, and more.
URL:https://museum.sbcounty.gov/event/old-spanish-trail-day-3/
LOCATION:Agua Mansa Pioneer Cemetery\, 2001 W Agua Mansa Road\, Colton\, CA\, 92324\, United States
CATEGORIES:Event
ATTACH;FMTTYPE=image/jpeg:https://museum.sbcounty.gov/wp-content/uploads/sites/45/2025-OST-Event-Cover-scaled.jpg
ORGANIZER;CN="Eliana Zacarias":MAILTO:Eliana.Zacarias@sbcm.sbcounty.gov
END:VEVENT
BEGIN:VEVENT
DTSTART;TZID=America/Los_Angeles:20251004T193000
DTEND;TZID=America/Los_Angeles:20251004T213000
DTSTAMP:20260425T155406
CREATED:20250113T213354Z
LAST-MODIFIED:20250506T155725Z
UID:10001820-1759606200-1759613400@museum.sbcounty.gov
SUMMARY:Cosmic Nights
DESCRIPTION:Join us for Cosmic Nights with the High Desert Astronomical Society (HiDAS) featuring telescope viewing. The event takes place outdoors\, weather permitting\, and guests are advised to wear comfortable clothing and shoes.\nMuseum galleries will be open during the event. General admission is $10 (adult)\, $8 (military or senior)\, $7 (student)\, and $5 (child ages 6 to 12). Children five and under are free. Museum Foundation members receive a 50% discount on admission. Parking is free. The museum is accessible to persons with disabilities.\nBased at the Luz Observatory in Apple Valley\, HiDAS was formed to provide trained\, volunteer astronomers to operate and maintain the Center’s astronomical equipment. The evenings feature telescope viewing\, an opportunity to discuss astronomy with the telescope operators\, and visitors are also encouraged to bring binoculars or set up their own telescopes.
URL:https://museum.sbcounty.gov/event/cosmic-nights-24/
LOCATION:Victor Valley Museum\, 11873 Apple Valley Road\, Apple Valley\, CA\, 92308\, United States
CATEGORIES:Cosmic Nights
ATTACH;FMTTYPE=image/jpeg:https://museum.sbcounty.gov/wp-content/uploads/sites/45/2025-VVM-Cosmic-Nights-Event-Cover-Generic-scaled.jpg
ORGANIZER;CN="Tiffany Talavera":MAILTO:tiffany.talavera@sbcm.sbcounty.gov
END:VEVENT
BEGIN:VEVENT
DTSTART;TZID=America/Los_Angeles:20251011T100000
DTEND;TZID=America/Los_Angeles:20251011T150000
DTSTAMP:20260425T155406
CREATED:20250808T160838Z
LAST-MODIFIED:20250808T160838Z
UID:10002465-1760176800-1760194800@museum.sbcounty.gov
SUMMARY:STEAM Saturdays: Q-Tip Skeletons
DESCRIPTION:Are you looking for an easy Halloween craft for kids? This Q-tip skeleton craft is so simple to put together\, and one that kids of all ages love! Join us every Saturday in October from 10 a.m. to 3 p.m. This craft will have you humming “The head bones connected to the neck bone\, the neckbone’s connected to the backbone” famous Dem Bones children’s song! Regular museum admission applies.
URL:https://museum.sbcounty.gov/event/steam-saturdays-q-tip-skeletons/2025-10-11/
LOCATION:San Bernardino County Museum\, 2024 Orange Tree Lane\, Redlands\, CA\, 92374\, United States
CATEGORIES:Program
ATTACH;FMTTYPE=image/jpeg:https://museum.sbcounty.gov/wp-content/uploads/sites/45/Qtip-Skeleton.jpg
ORGANIZER;CN="Heather Hill":MAILTO:Heather.Hill@sbcm.sbcounty.gov
END:VEVENT
BEGIN:VEVENT
DTSTART;TZID=America/Los_Angeles:20251011T103000
DTEND;TZID=America/Los_Angeles:20251011T121500
DTSTAMP:20260425T155406
CREATED:20250923T155417Z
LAST-MODIFIED:20250925T224054Z
UID:10002589-1760178600-1760184900@museum.sbcounty.gov
SUMMARY:STEAM Outdoors: Falling Leaves with Sprout & Blossom
DESCRIPTION:We’re taking STEAM outside! Join us for a special pop-up learning adventure in our Outdoor Classroom with our partner\, Sprout and Blossom. Together\, we’ll explore the changing seasons and the falling leaves that mark the start of autumn through a guided lesson and a fun craft. \nTwo sessions will be offered in the Outdoor Classroom: 10:30–11:15 a.m. and 11:30 a.m.–12:15 p.m. This is a first-come\, first-served activity\, so please arrive early if you’d like to participate. \nIncluded with regular admission | Free for museum members
URL:https://museum.sbcounty.gov/event/steam-saturdays-nature-collage-cyanotypes-2/
LOCATION:San Bernardino County Museum\, 2024 Orange Tree Lane\, Redlands\, CA\, 92374\, United States
CATEGORIES:Program
ATTACH;FMTTYPE=image/jpeg:https://museum.sbcounty.gov/wp-content/uploads/sites/45/Sprout-Blossom-website-image.jpg
ORGANIZER;CN="Heather Hill":MAILTO:Heather.Hill@sbcm.sbcounty.gov
END:VEVENT
BEGIN:VEVENT
DTSTART;TZID=America/Los_Angeles:20251011T110000
DTEND;TZID=America/Los_Angeles:20251011T150000
DTSTAMP:20260425T155406
CREATED:20250808T170001Z
LAST-MODIFIED:20250808T170001Z
UID:10002570-1760180400-1760194800@museum.sbcounty.gov
SUMMARY:Second Saturdays: DIY Skeletons and Calaveras Skulls
DESCRIPTION:Join us for Second Saturdays where we will be making a DIY Skeletons or Calaveras Skulls. Get your creative juices flowing by designing your very own with beads\, glitter glue\, and other colorful materials. Make it special to you! When done\, share your photo with us! Regular museum admission applies.
URL:https://museum.sbcounty.gov/event/second-saturdays-diy-skeletons-and-calaveras-skulls/
LOCATION:Victor Valley Museum\, 11873 Apple Valley Road\, Apple Valley\, CA\, 92308\, United States
CATEGORIES:Program
ATTACH;FMTTYPE=image/jpeg:https://museum.sbcounty.gov/wp-content/uploads/sites/45/480246587_2601470003376937_3724963404740970028_n.jpg
ORGANIZER;CN="Maria Gutierrez":MAILTO:maria.gutierrez@sbcm.sbcounty.gov
END:VEVENT
BEGIN:VEVENT
DTSTART;TZID=America/Los_Angeles:20251018T100000
DTEND;TZID=America/Los_Angeles:20251018T150000
DTSTAMP:20260425T155406
CREATED:20250808T160838Z
LAST-MODIFIED:20250808T160838Z
UID:10002468-1760781600-1760799600@museum.sbcounty.gov
SUMMARY:STEAM Saturdays: Q-Tip Skeletons
DESCRIPTION:Are you looking for an easy Halloween craft for kids? This Q-tip skeleton craft is so simple to put together\, and one that kids of all ages love! Join us every Saturday in October from 10 a.m. to 3 p.m. This craft will have you humming “The head bones connected to the neck bone\, the neckbone’s connected to the backbone” famous Dem Bones children’s song! Regular museum admission applies.
URL:https://museum.sbcounty.gov/event/steam-saturdays-q-tip-skeletons/2025-10-18/
LOCATION:San Bernardino County Museum\, 2024 Orange Tree Lane\, Redlands\, CA\, 92374\, United States
CATEGORIES:Program
ATTACH;FMTTYPE=image/jpeg:https://museum.sbcounty.gov/wp-content/uploads/sites/45/Qtip-Skeleton.jpg
ORGANIZER;CN="Heather Hill":MAILTO:Heather.Hill@sbcm.sbcounty.gov
END:VEVENT
BEGIN:VEVENT
DTSTART;TZID=America/Los_Angeles:20251018T110000
DTEND;TZID=America/Los_Angeles:20251018T160000
DTSTAMP:20260425T155406
CREATED:20250724T225844Z
LAST-MODIFIED:20250724T225844Z
UID:10002432-1760785200-1760803200@museum.sbcounty.gov
SUMMARY:Shake or Treat Earthquake and Emergency Preparedness Fair
DESCRIPTION:Come by in your costume to receive special treats plus have the opportunity to learn earthquake and emergency preparedness safety from our partners! From earthquakes to wildfires\, we want you to be prepared for any disaster situation. By participating in preparedness training programs and learning about emergency management\, we’ll help you stay one step ahead of any crisis situation. This free event offers residents the opportunity to learn how to prepare themselves\, their families\, their homes\, and their neighborhoods for wildfires\, earthquakes\, and other disasters. The day will also feature hands-on preparedness demonstrations\, expert speakers\, resources\, and emergency supplies at partner booths. We’ve partnered with many groups throughout the county that will be on hand to get you better prepared for any kind of disaster.\nThe event takes place outdoors in the Museum’s parking lot and is free to all attendees. Museum will be open\, regular admission applies. General admission is $10 (adult)\, $8 (military or senior)\, $7 (student)\, and $5 (child ages 6 to 12). Children five and under and museum members are free. Parking is free. The museum is accessible to persons with disabilities.
URL:https://museum.sbcounty.gov/event/shake-or-treat-earthquake-and-emergency-preparedness-fair/
LOCATION:San Bernardino County Museum\, 2024 Orange Tree Lane\, Redlands\, CA\, 92374\, United States
CATEGORIES:Event
ATTACH;FMTTYPE=image/jpeg:https://museum.sbcounty.gov/wp-content/uploads/sites/45/2025/01/2025-Great-ShakeOut-Event-Cover-scaled.jpg
ORGANIZER;CN="Eliana Zacarias":MAILTO:Eliana.Zacarias@sbcm.sbcounty.gov
END:VEVENT
BEGIN:VEVENT
DTSTART;TZID=America/Los_Angeles:20251025T100000
DTEND;TZID=America/Los_Angeles:20251025T150000
DTSTAMP:20260425T155406
CREATED:20250808T160838Z
LAST-MODIFIED:20250808T160838Z
UID:10002471-1761386400-1761404400@museum.sbcounty.gov
SUMMARY:STEAM Saturdays: Q-Tip Skeletons
DESCRIPTION:Are you looking for an easy Halloween craft for kids? This Q-tip skeleton craft is so simple to put together\, and one that kids of all ages love! Join us every Saturday in October from 10 a.m. to 3 p.m. This craft will have you humming “The head bones connected to the neck bone\, the neckbone’s connected to the backbone” famous Dem Bones children’s song! Regular museum admission applies.
URL:https://museum.sbcounty.gov/event/steam-saturdays-q-tip-skeletons/2025-10-25/
LOCATION:San Bernardino County Museum\, 2024 Orange Tree Lane\, Redlands\, CA\, 92374\, United States
CATEGORIES:Program
ATTACH;FMTTYPE=image/jpeg:https://museum.sbcounty.gov/wp-content/uploads/sites/45/Qtip-Skeleton.jpg
ORGANIZER;CN="Heather Hill":MAILTO:Heather.Hill@sbcm.sbcounty.gov
END:VEVENT
BEGIN:VEVENT
DTSTART;TZID=America/Los_Angeles:20251025T140000
DTEND;TZID=America/Los_Angeles:20251025T150000
DTSTAMP:20260425T155406
CREATED:20251020T195330Z
LAST-MODIFIED:20251023T155046Z
UID:10002598-1761400800-1761404400@museum.sbcounty.gov
SUMMARY:Stories & Heritage: Author Talk & Book Signing with Annette Chavez Macias
DESCRIPTION:Meet the Author: Annette Chavez Macias\nBook Signing\, Author Talk & Q&A\nIn celebration of Hispanic Heritage Month and the exhibition Expectations: A Better World Through Art\, Music\, and Respect. \nJoin us at the San Bernardino County Museum for a special afternoon with Annette Chavez Macias\, author of Everything She Never Knew and When We Were Widows. \nIn this emotional and heartwarming novel\, Macias explores themes of love\, loss\, and rediscovery through the story of Claudia\, a woman whose marriage and closest friendship unravel all at once. When her best friend and neighbor runs off with her husband\, Claudia is forced to navigate the aftermath while her strong-willed mother\, Gloria\, unexpectedly moves in. Together\, mother and daughter must confront old wounds\, rediscover their strength\, and learn what it means to rebuild — for themselves and for each other. \nThrough her writing\, Macias brings to life the complexity of family bonds\, cultural identity\, and the everyday courage it takes to begin again. \nFollowing the author talk\, guests are invited to participate in a Q&A session and book signing with Annette Chavez Macias. \nCome celebrate storytelling\, connection\, and heritage as part of our ongoing Expectations exhibition — a tribute to art\, culture\, and community across generations.
URL:https://museum.sbcounty.gov/event/stories-heritage-author-talk-book-signing-with-annette-chavez-macias/
LOCATION:San Bernardino County Museum\, 2024 Orange Tree Lane\, Redlands\, CA\, 92374\, United States
CATEGORIES:Artist Talk,Event
ATTACH;FMTTYPE=image/jpeg:https://museum.sbcounty.gov/wp-content/uploads/sites/45/Meet-the-Author.jpg
ORGANIZER;CN="Eliana Zacarias":MAILTO:Eliana.Zacarias@sbcm.sbcounty.gov
END:VEVENT
END:VCALENDAR